BEGIN:VCALENDAR
VERSION:2.0
PRODID:-//hacksw/handcal//NONSGML v1.0//EN
CALSCALE:GREGORIAN
BEGIN:VEVENT
ORGANIZER;CN=Regeneron Pharmaceuticals Inc.:MAILTO:no-reply@mail.gcs-web.com
DTEND:
UID:91ce51de-7947-422f-b69c-4c0b834919eb
DTSTAMP:1777080837
LOCATION:https://www.virtualshareholdermeeting.com/REGN2026
DESCRIPTION:Event Details https://investor.regeneron.com/events/event-details/2026-annual-meeting-shareholders\n\nWebcast: https://www.virtualshareholdermeeting.com/REGN2026
URL;VALUE=URI:https://www.virtualshareholdermeeting.com/REGN2026
SUMMARY:Regeneron Pharmaceuticals Inc. - 2026 Annual Meeting of Shareholders
DTSTART:20260612T143000Z
END:VEVENT
END:VCALENDAR